BEGIN:VCALENDAR
METHOD:PUBLISH
VERSION:2.0
PRODID:-//WoltLab GmbH//WoltLab Suite Calendar 5.4//EN
CALSCALE:GREGORIAN
X-WR-CALNAME;VALUE=TEXT:IUF Online+Offline RecordReleaseParty am 07.11. in 
 Winnenden
BEGIN:VEVENT
TRANSP:OPAQUE
UID:event-219@www.freiwild-supporters-club.de
URL:https://www.freiwild-supporters-club.de/calendar/event/389-iuf-online-o
 ffline-recordreleaseparty-am-07-11-in-winnenden/
DTSTART:20251107T153000Z
DTSTAMP:20251107T153000Z
CREATED:20251107T153000Z
SUMMARY:IUF Online+Offline RecordReleaseParty am 07.11. in Winnenden
DESCRIPTION:Liebe Freunde\,\n\nwir haben die letztem Tage viel mit dem FWSC
  und einigen anderen Leuten gesprochen und haben den VÖ-Tag unseres „Immer 
 unter Feuer“ Babys ein wenig durchgeplant.\nFolgende geilen Aktionen können
  wir Euch anbieten:\n\nZum einen wird es bei unserem OnlineShop Partner in 
 Winnenden eine RecordReleaseParty geben. Auch\, weil der letzte Restpostenv
 erkauf dort so super ankam\, wollten wir das nochmal wiederholen. Hier die 
 Details:\n\nProgramm:\nEinlass: 16:30 Uhr\n-Autogrammstunde\n-Livestream (B
 eamer + Beschallung) mit den FWSC-Regionen auf SocialMedia (Lasst euch über
 raschen\, wird lustig)\n-Restpostenabverkauf\n-Verlosung\n-Getränke + klein
 e Snacks zum günstigen Preis.\n-DJ-Musik\nEnde: ca. 21:00 Uhr\n\nAdresse:\n
 Protrade Integra GmbH\nSteinbeisweg 14\,\n71364 Winnenden\n\nEine begrenzte
  Anzahl an Einlassberechtigungen gibt es ab sofort im Frei.Wild Shop: KLICK
  [URL:https://www.frei-wild-shop.de/Vorverkauf/Frei-Wild-IUF-RecordReleaseP
 arty-07-11-25-Einlassbestaetigung::11775.html] (Kostet 10€ und es ist jewei
 ls ein Frei.Wild Fussball inkl. Luftpumpe mit dabei. Zusätzlich könnt ihr E
 uch ab Bestellwert 30€ per Coupon die 10€ wieder abziehen lassen.)\n\nAch j
 a\, übrigens: Speziell zu diesem Tag gibt es ein limitiertes Shirt Bundle (
 gleichfalls mit signierter CD) im Shop KLICK [URL:https://www.frei-wild-sho
 p.de/advanced_search_result.php?keywords=RecordRelease]\, für Leute die nic
 ht vor Ort sein können. (Leute die im Shop bestellt haben und am 07.11. in 
 Winnenden vor Ort sind\, bekommen ihre Versandkosten per Gutscheincode erst
 attet).
LOCATION:71364 Winnenden
DTEND:20251107T200000Z
CATEGORIES:Immer unter Feuer,Record Release Party,Winnenden
END:VEVENT
END:VCALENDAR
