BEGIN:VCALENDAR
METHOD:PUBLISH
VERSION:2.0
PRODID:-//WoltLab GmbH//WoltLab Suite Calendar 5.4//EN
CALSCALE:GREGORIAN
X-WR-CALNAME;VALUE=TEXT:Frei.Wild - Immer unter Feuer\, Wien (AT)
BEGIN:VEVENT
TRANSP:OPAQUE
UID:event-208@www.freiwild-supporters-club.de
URL:https://www.freiwild-supporters-club.de/calendar/event/378-frei-wild-im
 mer-unter-feuer-wien-at/
DTSTART:20260531T180000Z
DTSTAMP:20260531T180000Z
CREATED:20260531T180000Z
SUMMARY:Frei.Wild - Immer unter Feuer\, Wien (AT)
DESCRIPTION:Gasometer\nGuglgasse 6\n1110 Wien\nÖsterreich\n\nTickets:\nMit 
 Souvenirticket: KLICK [URL:https://shops.ticketmasterpartners.com/freiwild-
 hardtickets]\nTicketmaster: KLICK [URL:https://www.ticketmaster.de/artist/f
 rei-wild-tickets/946937]\nEventim: KLICK [URL:https://www.eventim.de/artist
 /frei-wild/]
LOCATION:Gasometer
DTEND:20260531T213000Z
CATEGORIES:Wien,österreich,Immer unter Feuer,Tour 2026
END:VEVENT
END:VCALENDAR
