BEGIN:VCALENDAR
METHOD:PUBLISH
VERSION:2.0
PRODID:-//WoltLab GmbH//WoltLab Suite Calendar 5.4//EN
CALSCALE:GREGORIAN
X-WR-CALNAME;VALUE=TEXT:Frei.Wild - Immer unter Feuer\, München
BEGIN:VEVENT
TRANSP:OPAQUE
UID:event-207@www.freiwild-supporters-club.de
URL:https://www.freiwild-supporters-club.de/calendar/event/377-frei-wild-im
 mer-unter-feuer-m%C3%BCnchen/
DTSTART:20260530T180000Z
DTSTAMP:20260530T180000Z
CREATED:20260530T180000Z
SUMMARY:Frei.Wild - Immer unter Feuer\, München
DESCRIPTION:Olympiahalle\nSpiridon-Louis-Ring 21\n80809 München\nDeutschlan
 d\n\nTickets:\nMit Souvenirticket: KLICK [URL:https://shops.ticketmasterpar
 tners.com/freiwild-hardtickets]\nTicketmaster: KLICK [URL:https://www.ticke
 tmaster.de/artist/frei-wild-tickets/946937]\nEventim: KLICK [URL:https://ww
 w.eventim.de/artist/frei-wild/]
LOCATION:Olympiahalle
DTEND:20260530T213000Z
CATEGORIES:München,Immer unter Feuer,Tour 2026
END:VEVENT
END:VCALENDAR
