BEGIN:VCALENDAR
METHOD:PUBLISH
VERSION:2.0
PRODID:-//WoltLab GmbH//WoltLab Suite Calendar 5.4//EN
CALSCALE:GREGORIAN
X-WR-CALNAME;VALUE=TEXT:Frei.Wild - Immer unter Feuer\, Zürich (AT)
BEGIN:VEVENT
TRANSP:OPAQUE
UID:event-206@www.freiwild-supporters-club.de
URL:https://www.freiwild-supporters-club.de/calendar/event/376-frei-wild-im
 mer-unter-feuer-z%C3%BCrich-at/
DTSTART:20260524T180000Z
DTSTAMP:20260524T180000Z
CREATED:20260524T180000Z
SUMMARY:Frei.Wild - Immer unter Feuer\, Zürich (AT)
DESCRIPTION:Komplex 457\nHohlstrasse 457\n8048 Zürich\nSchweiz\n\nTickets:\
 nMit Souvenirticket: KLICK [URL:https://shops.ticketmasterpartners.com/frei
 wild-hardtickets]\nTicketmaster: KLICK [URL:https://www.ticketmaster.de/art
 ist/frei-wild-tickets/946937]\nEventim: KLICK [URL:https://www.eventim.de/a
 rtist/frei-wild/]
LOCATION:Komplex 457
DTEND:20260524T213000Z
CATEGORIES:schweiz,Zürich,Immer unter Feuer,Tour 2026
END:VEVENT
END:VCALENDAR
