BEGIN:VCALENDAR
METHOD:PUBLISH
VERSION:2.0
PRODID:-//WoltLab GmbH//WoltLab Suite Calendar 5.4//EN
CALSCALE:GREGORIAN
X-WR-CALNAME;VALUE=TEXT:Frei.Wild - Immer unter Feuer\, Stuttgart
BEGIN:VEVENT
TRANSP:OPAQUE
UID:event-205@www.freiwild-supporters-club.de
URL:https://www.freiwild-supporters-club.de/calendar/event/375-frei-wild-im
 mer-unter-feuer-stuttgart/
DTSTART:20260523T180000Z
DTSTAMP:20260523T180000Z
CREATED:20260523T180000Z
SUMMARY:Frei.Wild - Immer unter Feuer\, Stuttgart
DESCRIPTION:Martin-Schleyer-Halle\nMercedesstraße 69\n70372 Stuttgart\nDeut
 schland\n\nTickets:\nMit Souvenirticket: KLICK [URL:https://shops.ticketmas
 terpartners.com/freiwild-hardtickets]\nTicketmaster: KLICK [URL:https://www
 .ticketmaster.de/artist/frei-wild-tickets/946937]\nEventim: KLICK [URL:http
 s://www.eventim.de/artist/frei-wild/]
LOCATION:Martin-Schleyer-Halle
DTEND:20260523T213000Z
CATEGORIES:Stuttgart,Immer unter Feuer,Tour 2026
END:VEVENT
END:VCALENDAR
