BEGIN:VCALENDAR
METHOD:PUBLISH
VERSION:2.0
PRODID:-//WoltLab GmbH//WoltLab Suite Calendar 5.4//EN
CALSCALE:GREGORIAN
X-WR-CALNAME;VALUE=TEXT:Frei.Wild - Immer unter Feuer\, Köln
BEGIN:VEVENT
TRANSP:OPAQUE
UID:event-204@www.freiwild-supporters-club.de
URL:https://www.freiwild-supporters-club.de/calendar/event/374-frei-wild-im
 mer-unter-feuer-k%C3%B6ln/
DTSTART:20260522T180000Z
DTSTAMP:20260522T180000Z
CREATED:20260522T180000Z
SUMMARY:Frei.Wild - Immer unter Feuer\, Köln
DESCRIPTION:Lanxess Arena\nWilly-Brandt-Platz 3\n50679 Köln\nDeutschland\n\
 nTickets:\nMit Souvenirticket: KLICK [URL:https://shops.ticketmasterpartner
 s.com/freiwild-hardtickets]\nTicketmaster: KLICK [URL:https://www.ticketmas
 ter.de/artist/frei-wild-tickets/946937]\nEventim: KLICK [URL:https://www.ev
 entim.de/artist/frei-wild/]
LOCATION:Lanxess Arena
DTEND:20260522T213000Z
CATEGORIES:Köln,Immer unter Feuer,Tour 2026
END:VEVENT
END:VCALENDAR
