BEGIN:VCALENDAR
METHOD:PUBLISH
VERSION:2.0
PRODID:-//WoltLab GmbH//WoltLab Suite Calendar 5.4//EN
CALSCALE:GREGORIAN
X-WR-CALNAME;VALUE=TEXT:Frei.Wild - Immer unter Feuer\, Nürnberg
BEGIN:VEVENT
TRANSP:OPAQUE
UID:event-203@www.freiwild-supporters-club.de
URL:https://www.freiwild-supporters-club.de/calendar/event/373-frei-wild-im
 mer-unter-feuer-n%C3%BCrnberg/
DTSTART:20260516T180000Z
DTSTAMP:20260516T180000Z
CREATED:20260516T180000Z
SUMMARY:Frei.Wild - Immer unter Feuer\, Nürnberg
DESCRIPTION:Arena Nürnberg Versicherung\nKurt-Leucht-Weg 11\n90471 Nürnberg
 \nDeutschland\n\nTickets:\nMit Souvenirticket: KLICK [URL:https://shops.tic
 ketmasterpartners.com/freiwild-hardtickets]\nTicketmaster: KLICK [URL:https
 ://www.ticketmaster.de/artist/frei-wild-tickets/946937]\nEventim: KLICK [UR
 L:https://www.eventim.de/artist/frei-wild/]
LOCATION:Arena Nürnberg Versicherung
DTEND:20260516T213000Z
CATEGORIES:Berlin,Immer unter Feuer,Tour 2026
END:VEVENT
END:VCALENDAR
