BEGIN:VCALENDAR
METHOD:PUBLISH
VERSION:2.0
PRODID:-//WoltLab GmbH//WoltLab Suite Calendar 5.4//EN
CALSCALE:GREGORIAN
X-WR-CALNAME;VALUE=TEXT:Frei.Wild - Immer unter Feuer\, Berlin
BEGIN:VEVENT
TRANSP:OPAQUE
UID:event-202@www.freiwild-supporters-club.de
URL:https://www.freiwild-supporters-club.de/calendar/event/372-frei-wild-im
 mer-unter-feuer-berlin/
DTSTART:20260515T180000Z
DTSTAMP:20260515T180000Z
CREATED:20260515T180000Z
SUMMARY:Frei.Wild - Immer unter Feuer\, Berlin
DESCRIPTION:Uber Arena\nUber Platz 1\n10243 Berlin\nDeutschland\n\nTickets:
 \nMit Souvenirticket: KLICK [URL:https://shops.ticketmasterpartners.com/fre
 iwild-hardtickets]\nTicketmaster: KLICK [URL:https://www.ticketmaster.de/ar
 tist/frei-wild-tickets/946937]\nEventim: KLICK [URL:https://www.eventim.de/
 artist/frei-wild/]
LOCATION:Uber Arena
DTEND:20260515T213000Z
CATEGORIES:Berlin,Immer unter Feuer,Tour 2026
END:VEVENT
END:VCALENDAR
