BEGIN:VCALENDAR
METHOD:PUBLISH
VERSION:2.0
PRODID:-//WoltLab GmbH//WoltLab Suite Calendar 5.4//EN
CALSCALE:GREGORIAN
X-WR-CALNAME;VALUE=TEXT:Frei.Wild - Immer unter Feuer\, Hamburg
BEGIN:VEVENT
TRANSP:OPAQUE
UID:event-200@www.freiwild-supporters-club.de
URL:https://www.freiwild-supporters-club.de/calendar/event/370-frei-wild-im
 mer-unter-feuer-hamburg/
DTSTART:20260513T180000Z
DTSTAMP:20260513T180000Z
CREATED:20260513T180000Z
SUMMARY:Frei.Wild - Immer unter Feuer\, Hamburg
DESCRIPTION:Barclays Arena\nHellgrundweg 44\n22525 Hamburg\nDeutschland\n\n
 Tickets:\nMit Souvenirticket: KLICK [URL:https://shops.ticketmasterpartners
 .com/freiwild-hardtickets]\nTicketmaster: KLICK [URL:https://www.ticketmast
 er.de/artist/frei-wild-tickets/946937]\nEventim: KLICK [URL:https://www.eve
 ntim.de/artist/frei-wild/]
LOCATION:Barclays Arena
DTEND:20260513T213000Z
CATEGORIES:Leipzig,Immer unter Feuer,Tour 2026
END:VEVENT
END:VCALENDAR
