BEGIN:VCALENDAR
METHOD:PUBLISH
VERSION:2.0
PRODID:-//WoltLab GmbH//WoltLab Suite Calendar 5.4//EN
CALSCALE:GREGORIAN
X-WR-CALNAME;VALUE=TEXT:Frei.Wild - Immer unter Feuer\, Frankfurt am Main
BEGIN:VEVENT
TRANSP:OPAQUE
UID:event-199@www.freiwild-supporters-club.de
URL:https://www.freiwild-supporters-club.de/calendar/event/369-frei-wild-im
 mer-unter-feuer-frankfurt-am-main/
DTSTART:20260510T180000Z
DTSTAMP:20260510T180000Z
CREATED:20260510T180000Z
SUMMARY:Frei.Wild - Immer unter Feuer\, Frankfurt am Main
DESCRIPTION:Festhalle\nLudwig-Erhard-Anlage 1\n60327 Frankfurt am Main\nDeu
 tschland\n\nTickets:\nMit Souvenirticket: KLICK [URL:https://shops.ticketma
 sterpartners.com/freiwild-hardtickets]\nTicketmaster: KLICK [URL:https://ww
 w.ticketmaster.de/artist/frei-wild-tickets/946937]\nEventim: KLICK [URL:htt
 ps://www.eventim.de/artist/frei-wild/]
LOCATION:Festhalle
DTEND:20260510T213000Z
CATEGORIES:Leipzig,Immer unter Feuer,Tour 2026
END:VEVENT
END:VCALENDAR
