BEGIN:VCALENDAR
METHOD:PUBLISH
VERSION:2.0
PRODID:-//WoltLab GmbH//WoltLab Suite Calendar 5.4//EN
CALSCALE:GREGORIAN
X-WR-CALNAME;VALUE=TEXT:Frei.Wild - Immer unter Feuer\, Leipzig
BEGIN:VEVENT
TRANSP:OPAQUE
UID:event-197@www.freiwild-supporters-club.de
URL:https://www.freiwild-supporters-club.de/calendar/event/367-frei-wild-im
 mer-unter-feuer-leipzig/
DTSTART:20260508T180000Z
DTSTAMP:20260508T180000Z
CREATED:20260508T180000Z
SUMMARY:Frei.Wild - Immer unter Feuer\, Leipzig
DESCRIPTION:AUSVERKAUFT\n\nQuarterback Immobilien Arena\nAm Sportforum 2\n0
 4105 Leipzig\nDeutschland\n\nTickets:\nMit Souvenirticket: KLICK [URL:https
 ://shops.ticketmasterpartners.com/freiwild-hardtickets]\nTicketmaster: KLIC
 K [URL:https://www.ticketmaster.de/artist/frei-wild-tickets/946937]\nEventi
 m: KLICK [URL:https://www.eventim.de/artist/frei-wild/]
LOCATION:Quarterback Immobilien Arena
DTEND:20260508T213000Z
CATEGORIES:Leipzig,Immer unter Feuer,Tour 2026
END:VEVENT
END:VCALENDAR
