BEGIN:VCALENDAR
METHOD:PUBLISH
VERSION:2.0
PRODID:-//WoltLab GmbH//WoltLab Suite Calendar 5.4//EN
CALSCALE:GREGORIAN
X-WR-CALNAME;VALUE=TEXT:Frei.Wild - Immer unter Feuer\, Leipzig
BEGIN:VEVENT
TRANSP:OPAQUE
UID:event-196@www.freiwild-supporters-club.de
URL:https://www.freiwild-supporters-club.de/calendar/event/366-frei-wild-im
 mer-unter-feuer-leipzig/
DTSTART:20260507T180000Z
DTSTAMP:20260507T180000Z
CREATED:20260507T180000Z
SUMMARY:Frei.Wild - Immer unter Feuer\, Leipzig
DESCRIPTION:Quarterback Immobilien Arena\nAm Sportforum 2\n04105 Leipzig\nD
 eutschland\n\nTickets:\nMit Souvenirticket: KLICK [URL:https://shops.ticket
 masterpartners.com/freiwild-hardtickets]\nTicketmaster: KLICK [URL:https://
 www.ticketmaster.de/artist/frei-wild-tickets/946937]\nEventim: KLICK [URL:h
 ttps://www.eventim.de/artist/frei-wild/]
LOCATION:Quarterback Immobilien Arena
DTEND:20260507T213000Z
CATEGORIES:Leipzig,Immer unter Feuer,Tour 2026
END:VEVENT
END:VCALENDAR
